BEGIN:VCALENDAR
VERSION:2.0
PRODID:-//Lugauer Turnverein e.V. - ECPv6.15.20//NONSGML v1.0//EN
CALSCALE:GREGORIAN
METHOD:PUBLISH
X-ORIGINAL-URL:https://lugauer-turnverein.de
X-WR-CALDESC:Veranstaltungen für Lugauer Turnverein e.V.
REFRESH-INTERVAL;VALUE=DURATION:PT1H
X-Robots-Tag:noindex
X-PUBLISHED-TTL:PT1H
BEGIN:VTIMEZONE
TZID:Europe/Berlin
BEGIN:DAYLIGHT
TZOFFSETFROM:+0100
TZOFFSETTO:+0200
TZNAME:CEST
DTSTART:20250330T010000
END:DAYLIGHT
BEGIN:STANDARD
TZOFFSETFROM:+0200
TZOFFSETTO:+0100
TZNAME:CET
DTSTART:20251026T010000
END:STANDARD
BEGIN:DAYLIGHT
TZOFFSETFROM:+0100
TZOFFSETTO:+0200
TZNAME:CEST
DTSTART:20260329T010000
END:DAYLIGHT
BEGIN:STANDARD
TZOFFSETFROM:+0200
TZOFFSETTO:+0100
TZNAME:CET
DTSTART:20261025T010000
END:STANDARD
BEGIN:DAYLIGHT
TZOFFSETFROM:+0100
TZOFFSETTO:+0200
TZNAME:CEST
DTSTART:20270328T010000
END:DAYLIGHT
BEGIN:STANDARD
TZOFFSETFROM:+0200
TZOFFSETTO:+0100
TZNAME:CET
DTSTART:20271031T010000
END:STANDARD
END:VTIMEZONE
BEGIN:VEVENT
DTSTART;VALUE=DATE:20260919
DTEND;VALUE=DATE:20260920
DTSTAMP:20260422T040248
CREATED:20260202T115834Z
LAST-MODIFIED:20260203T125922Z
UID:10000028-1789776000-1789862399@lugauer-turnverein.de
SUMMARY:LL 2. Wettkampf
DESCRIPTION:
URL:https://lugauer-turnverein.de/event/ll-2-wettkampf/
LOCATION:Hartmannhalle\, Fabrikstrasse 9\, Chemnitz\, Sachsen\, 09111\, Deutschland
CATEGORIES:Wettkampf
END:VEVENT
BEGIN:VEVENT
DTSTART;VALUE=DATE:20261107
DTEND;VALUE=DATE:20261108
DTSTAMP:20260422T040248
CREATED:20260202T115925Z
LAST-MODIFIED:20260203T125949Z
UID:10000029-1794009600-1794095999@lugauer-turnverein.de
SUMMARY:Bundespokal
DESCRIPTION:
URL:https://lugauer-turnverein.de/event/bundespokal/
LOCATION:Hartmannhalle\, Fabrikstrasse 9\, Chemnitz\, Sachsen\, 09111\, Deutschland
CATEGORIES:Wettkampf
END:VEVENT
BEGIN:VEVENT
DTSTART;VALUE=DATE:20261114
DTEND;VALUE=DATE:20261115
DTSTAMP:20260422T040248
CREATED:20260202T120029Z
LAST-MODIFIED:20260203T130019Z
UID:10000030-1794614400-1794700799@lugauer-turnverein.de
SUMMARY:LL 3. Wettkampf
DESCRIPTION:
URL:https://lugauer-turnverein.de/event/ll-3-wettkampf/
LOCATION:Hartmannhalle\, Fabrikstrasse 9\, Chemnitz\, Sachsen\, 09111\, Deutschland
CATEGORIES:Wettkampf
END:VEVENT
END:VCALENDAR